BEGIN:VCALENDAR
VERSION:2.0
PRODID:-//Eventin//Event Calendar//EN
CALSCALE:GREGORIAN
METHOD:PUBLISH
BEGIN:VEVENT
UID:e88a1b2c4f18ed76d717bb54868427b6@laposadadelsur.es
SUMMARY:Reservados en la Posada del Sur
DESCRIPTION:Obtén tu reservado y acceso prioritario con una botella y 10 r
 efrescos para máximo 5 personas en La Posada del Sur.*Infórmate de las co
 ndciones llamando al contacto
LOCATION:la posada del sur Leganés
DTSTAMP:20260419T130954Z
DTSTART:20261218T030000Z
DTEND:20261218T225000Z
END:VEVENT
END:VCALENDAR
