BEGIN:VCALENDAR
VERSION:2.0
PRODID:-//Eventin//Event Calendar//EN
CALSCALE:GREGORIAN
METHOD:PUBLISH
BEGIN:VEVENT
UID:9c878591d001870140b2ebb5e09e13f8@laposadadelsur.es
SUMMARY:Reservados en la Posada del Sur
DESCRIPTION:Obtén tu reservado y acceso prioritario con una botella y 10 r
 efrescos para máximo 5 personas en La Posada del Sur.*Infórmate de las co
 ndciones llamando al contacto
LOCATION:la posada del sur Leganés
DTSTAMP:20260419T131923Z
DTSTART:20270206T030000Z
DTEND:20270206T225000Z
END:VEVENT
END:VCALENDAR
